Package: PAST Version: 1.25.0 Command: /home/biocbuild/R/R/bin/R CMD check --install=check:PAST.install-out.txt --library=/home/biocbuild/R/R/site-library --no-vignettes --timings PAST_1.25.0.tar.gz StartedAt: 2025-10-17 12:02:04 -0000 (Fri, 17 Oct 2025) EndedAt: 2025-10-17 12:12:33 -0000 (Fri, 17 Oct 2025) EllapsedTime: 628.9 seconds RetCode: 0 Status: WARNINGS CheckDir: PAST.Rcheck Warnings: 2