Package: PAST Version: 1.25.0 Command: /home/biocbuild/R/R/bin/R CMD build --keep-empty-dirs --no-resave-data PAST StartedAt: 2025-10-21 01:57:23 -0000 (Tue, 21 Oct 2025) EndedAt: 2025-10-21 02:00:39 -0000 (Tue, 21 Oct 2025) EllapsedTime: 196.1 seconds RetCode: 0 Status: OK PackageFile: PAST_1.25.0.tar.gz PackageFileSize: 954.8 KiB