Package: PAST Version: 1.25.0 Command: rm -rf PAST.buildbin-libdir && mkdir PAST.buildbin-libdir && F:\biocbuild\bbs-3.22-bioc\R\bin\R.exe CMD INSTALL --build --library=PAST.buildbin-libdir PAST_1.25.0.tar.gz StartedAt: 2025-08-15 10:55:23 -0400 (Fri, 15 Aug 2025) EndedAt: 2025-08-15 10:56:01 -0400 (Fri, 15 Aug 2025) EllapsedTime: 38.7 seconds RetCode: 0 Status: OK PackageFile: PAST_1.25.0.zip PackageFileSize: 1013 KiB