Package: PAST Version: 1.26.0 Command: /Library/Frameworks/R.framework/Resources/bin/R CMD check --install=check:PAST.install-out.txt --library=/Library/Frameworks/R.framework/Resources/library --no-vignettes --timings PAST_1.26.0.tar.gz StartedAt: 2025-11-03 23:12:55 -0500 (Mon, 03 Nov 2025) EndedAt: 2025-11-03 23:22:02 -0500 (Mon, 03 Nov 2025) EllapsedTime: 547.0 seconds RetCode: 0 Status: WARNINGS CheckDir: PAST.Rcheck Warnings: 2