Package: PAST Version: 1.25.0 Command: /Library/Frameworks/R.framework/Resources/bin/R CMD INSTALL PAST StartedAt: 2025-10-19 15:16:16 -0400 (Sun, 19 Oct 2025) EndedAt: 2025-10-19 15:16:30 -0400 (Sun, 19 Oct 2025) EllapsedTime: 14.2 seconds RetCode: 0 Status: OK