Package: PAST Version: 1.25.0 Command: /Library/Frameworks/R.framework/Resources/bin/R CMD build --keep-empty-dirs --no-resave-data PAST StartedAt: 2025-10-19 17:16:14 -0400 (Sun, 19 Oct 2025) EndedAt: 2025-10-19 17:17:06 -0400 (Sun, 19 Oct 2025) EllapsedTime: 52.6 seconds RetCode: 0 Status: OK PackageFile: PAST_1.25.0.tar.gz PackageFileSize: 954.4 KiB