Package: PANR Version: 1.55.0 Command: /home/biocbuild/R/R/bin/R CMD INSTALL PANR StartedAt: 2025-10-16 21:13:40 -0000 (Thu, 16 Oct 2025) EndedAt: 2025-10-16 21:14:47 -0000 (Thu, 16 Oct 2025) EllapsedTime: 66.8 seconds RetCode: 0 Status: OK