Package: PANR Version: 1.55.0 Command: /home/biocbuild/R/R/bin/R CMD check --install=check:PANR.install-out.txt --library=/home/biocbuild/R/R/site-library --no-vignettes --timings PANR_1.55.0.tar.gz StartedAt: 2025-10-17 12:01:36 -0000 (Fri, 17 Oct 2025) EndedAt: 2025-10-17 12:02:28 -0000 (Fri, 17 Oct 2025) EllapsedTime: 52.1 seconds RetCode: 0 Status: OK CheckDir: PANR.Rcheck Warnings: 0