Package: PANR Version: 1.55.0 Command: /home/biocbuild/R/R/bin/R CMD build --keep-empty-dirs --no-resave-data PANR StartedAt: 2025-10-21 01:57:02 -0000 (Tue, 21 Oct 2025) EndedAt: 2025-10-21 01:57:21 -0000 (Tue, 21 Oct 2025) EllapsedTime: 19.0 seconds RetCode: 0 Status: OK PackageFile: PANR_1.55.0.tar.gz PackageFileSize: 2.097 MiB