Package: PANR Version: 1.55.0 Command: rm -rf PANR.buildbin-libdir && mkdir PANR.buildbin-libdir && F:\biocbuild\bbs-3.22-bioc\R\bin\R.exe CMD INSTALL --build --library=PANR.buildbin-libdir PANR_1.55.0.tar.gz StartedAt: 2025-08-15 10:55:16 -0400 (Fri, 15 Aug 2025) EndedAt: 2025-08-15 10:55:39 -0400 (Fri, 15 Aug 2025) EllapsedTime: 23.2 seconds RetCode: 0 Status: OK PackageFile: PANR_1.55.0.zip PackageFileSize: 2.008 MiB