Package: PANR Version: 1.55.0 Command: /home/biocbuild/bbs-3.22-bioc/R/bin/R CMD INSTALL PANR StartedAt: 2025-10-19 15:06:52 -0400 (Sun, 19 Oct 2025) EndedAt: 2025-10-19 15:07:17 -0400 (Sun, 19 Oct 2025) EllapsedTime: 24.9 seconds RetCode: 0 Status: OK