Package: PANR Version: 1.55.0 Command: /Library/Frameworks/R.framework/Resources/bin/R CMD INSTALL PANR StartedAt: 2025-10-19 15:10:10 -0400 (Sun, 19 Oct 2025) EndedAt: 2025-10-19 15:11:23 -0400 (Sun, 19 Oct 2025) EllapsedTime: 72.4 seconds RetCode: 0 Status: OK