Package: PANR Version: 1.55.0 Command: /Library/Frameworks/R.framework/Resources/bin/R CMD build --keep-empty-dirs --no-resave-data PANR StartedAt: 2025-10-19 18:40:33 -0400 (Sun, 19 Oct 2025) EndedAt: 2025-10-19 18:41:49 -0400 (Sun, 19 Oct 2025) EllapsedTime: 75.6 seconds RetCode: 0 Status: OK PackageFile: PANR_1.55.0.tar.gz PackageFileSize: 2.111 MiB