Package: PAIRADISE Version: 1.26.0 Command: /home/biocbuild/R/R/bin/R CMD check --install=check:PAIRADISE.install-out.txt --library=/home/biocbuild/R/R/site-library --no-vignettes --timings PAIRADISE_1.26.0.tar.gz StartedAt: 2025-11-18 13:02:42 -0000 (Tue, 18 Nov 2025) EndedAt: 2025-11-18 13:08:29 -0000 (Tue, 18 Nov 2025) EllapsedTime: 346.6 seconds RetCode: 0 Status: OK CheckDir: PAIRADISE.Rcheck Warnings: 0