Package: PAIRADISE Version: 1.26.0 Command: /home/biocbuild/R/R/bin/R CMD build --keep-empty-dirs --no-resave-data PAIRADISE StartedAt: 2025-11-18 03:50:10 -0000 (Tue, 18 Nov 2025) EndedAt: 2025-11-18 03:51:21 -0000 (Tue, 18 Nov 2025) EllapsedTime: 71.1 seconds RetCode: 0 Status: OK PackageFile: PAIRADISE_1.26.0.tar.gz PackageFileSize: 386.1 KiB