Package: PAIRADISE Version: 1.26.0 Command: /Library/Frameworks/R.framework/Resources/bin/R CMD check --install=check:PAIRADISE.install-out.txt --library=/Library/Frameworks/R.framework/Resources/library --no-vignettes --timings PAIRADISE_1.26.0.tar.gz StartedAt: 2025-11-03 23:10:39 -0500 (Mon, 03 Nov 2025) EndedAt: 2025-11-03 23:14:59 -0500 (Mon, 03 Nov 2025) EllapsedTime: 260.5 seconds RetCode: 0 Status: OK CheckDir: PAIRADISE.Rcheck Warnings: 0