Package: PAIRADISE Version: 1.26.0 Command: /Library/Frameworks/R.framework/Resources/bin/R CMD check --install=check:PAIRADISE.install-out.txt --library=/Library/Frameworks/R.framework/Resources/library --no-vignettes --timings PAIRADISE_1.26.0.tar.gz StartedAt: 2025-11-10 21:31:04 -0500 (Mon, 10 Nov 2025) EndedAt: 2025-11-10 21:32:13 -0500 (Mon, 10 Nov 2025) EllapsedTime: 68.7 seconds RetCode: 0 Status: OK CheckDir: PAIRADISE.Rcheck Warnings: 0