Package: PAIRADISE Version: 1.26.0 Command: /Library/Frameworks/R.framework/Resources/bin/R CMD build --keep-empty-dirs --no-resave-data PAIRADISE StartedAt: 2025-11-10 17:18:19 -0500 (Mon, 10 Nov 2025) EndedAt: 2025-11-10 17:18:39 -0500 (Mon, 10 Nov 2025) EllapsedTime: 20.2 seconds RetCode: 0 Status: OK PackageFile: PAIRADISE_1.26.0.tar.gz PackageFileSize: 320.5 KiB