Package: PAIRADISE Version: 1.26.0 Maintainer: Qiang Hu , Levon Demirdjian MaintainerEmail: levondem at ucla.edu git_url: https://git.bioconductor.org/packages/PAIRADISE git_branch: RELEASE_3_22 git_last_commit: d2d3a60 git_last_commit_date: 2025-10-29 10:49:32 -0500 (Wed, 29 Oct 2025)