Package: PADOG Version: 1.51.0 Command: /Library/Frameworks/R.framework/Resources/bin/R CMD check --install=check:PADOG.install-out.txt --library=/Library/Frameworks/R.framework/Resources/library --no-vignettes --timings PADOG_1.51.0.tar.gz StartedAt: 2025-10-17 01:12:51 -0400 (Fri, 17 Oct 2025) EndedAt: 2025-10-17 01:19:39 -0400 (Fri, 17 Oct 2025) EllapsedTime: 408.3 seconds RetCode: 0 Status: OK CheckDir: PADOG.Rcheck Warnings: 0