Package: OutSplice Version: 1.9.0 Command: /home/biocbuild/R/R/bin/R CMD INSTALL OutSplice StartedAt: 2025-09-29 21:40:21 -0000 (Mon, 29 Sep 2025) EndedAt: 2025-09-29 21:41:07 -0000 (Mon, 29 Sep 2025) EllapsedTime: 45.5 seconds RetCode: 0 Status: OK