Package: Oscope Version: 1.39.0 Command: /home/biocbuild/R/R/bin/R CMD build --keep-empty-dirs --no-resave-data Oscope StartedAt: 2025-10-14 02:22:38 -0000 (Tue, 14 Oct 2025) EndedAt: 2025-10-14 02:26:23 -0000 (Tue, 14 Oct 2025) EllapsedTime: 225.4 seconds RetCode: 0 Status: OK PackageFile: Oscope_1.39.0.tar.gz PackageFileSize: 1.151 MiB