Package: Oscope Version: 1.39.0 Command: F:\biocbuild\bbs-3.22-bioc\R\bin\R.exe CMD INSTALL Oscope StartedAt: 2025-08-14 15:32:10 -0400 (Thu, 14 Aug 2025) EndedAt: 2025-08-14 15:32:27 -0400 (Thu, 14 Aug 2025) EllapsedTime: 17.1 seconds RetCode: 0 Status: OK