Package: Oscope Version: 1.39.0 Command: F:\biocbuild\bbs-3.22-bioc\R\bin\R.exe CMD check --no-multiarch --install=check:Oscope.install-out.txt --library=F:\biocbuild\bbs-3.22-bioc\R\library --no-vignettes --timings Oscope_1.39.0.tar.gz StartedAt: 2025-08-15 06:07:32 -0400 (Fri, 15 Aug 2025) EndedAt: 2025-08-15 06:09:07 -0400 (Fri, 15 Aug 2025) EllapsedTime: 95.3 seconds RetCode: 0 Status: OK CheckDir: Oscope.Rcheck Warnings: 0