Package: Oscope Version: 1.39.0 Command: /home/biocbuild/bbs-3.22-bioc/R/bin/R CMD check --install=check:Oscope.install-out.txt --library=/home/biocbuild/bbs-3.22-bioc/R/site-library --timings Oscope_1.39.0.tar.gz StartedAt: 2025-10-21 02:50:42 -0400 (Tue, 21 Oct 2025) EndedAt: 2025-10-21 02:54:10 -0400 (Tue, 21 Oct 2025) EllapsedTime: 208.3 seconds RetCode: 0 Status: OK CheckDir: Oscope.Rcheck Warnings: 0