Package: OrganismDbi Version: 1.51.4 Command: rm -rf OrganismDbi.buildbin-libdir && mkdir OrganismDbi.buildbin-libdir && F:\biocbuild\bbs-3.22-bioc\R\bin\R.exe CMD INSTALL --build --library=OrganismDbi.buildbin-libdir OrganismDbi_1.51.4.tar.gz StartedAt: 2025-08-15 10:54:05 -0400 (Fri, 15 Aug 2025) EndedAt: 2025-08-15 10:55:48 -0400 (Fri, 15 Aug 2025) EllapsedTime: 102.9 seconds RetCode: 0 Status: OK PackageFile: OrganismDbi_1.51.4.zip PackageFileSize: 778.8 KiB