Package: OrganismDbi Version: 1.52.0 Command: /home/biocbuild/bbs-3.22-bioc/R/bin/R CMD check --install=check:OrganismDbi.install-out.txt --library=/home/biocbuild/bbs-3.22-bioc/R/site-library --timings OrganismDbi_1.52.0.tar.gz StartedAt: 2025-10-30 08:42:43 -0400 (Thu, 30 Oct 2025) EndedAt: 2025-10-30 08:59:50 -0400 (Thu, 30 Oct 2025) EllapsedTime: 1027.6 seconds RetCode: 0 Status: OK CheckDir: OrganismDbi.Rcheck Warnings: 0