Package: OrganismDbi Version: 1.52.0 Command: /home/biocbuild/bbs-3.22-bioc/R/bin/R CMD build --keep-empty-dirs --no-resave-data --md5 OrganismDbi StartedAt: 2025-10-30 01:31:43 -0400 (Thu, 30 Oct 2025) EndedAt: 2025-10-30 01:33:39 -0400 (Thu, 30 Oct 2025) EllapsedTime: 116.2 seconds RetCode: 0 Status: OK PackageFile: OrganismDbi_1.52.0.tar.gz PackageFileSize: 389.2 KiB