Package: OrganismDbi Version: 1.52.0 Command: /Library/Frameworks/R.framework/Resources/bin/R CMD build --keep-empty-dirs --no-resave-data OrganismDbi StartedAt: 2025-10-30 17:59:20 -0400 (Thu, 30 Oct 2025) EndedAt: 2025-10-30 18:01:30 -0400 (Thu, 30 Oct 2025) EllapsedTime: 130.2 seconds RetCode: 0 Status: OK PackageFile: OrganismDbi_1.52.0.tar.gz PackageFileSize: 387.8 KiB