Package: OrganismDbi Version: 1.51.5 Command: /Library/Frameworks/R.framework/Resources/bin/R CMD build --keep-empty-dirs --no-resave-data OrganismDbi StartedAt: 2025-10-28 17:15:28 -0400 (Tue, 28 Oct 2025) EndedAt: 2025-10-28 17:16:09 -0400 (Tue, 28 Oct 2025) EllapsedTime: 41.4 seconds RetCode: 0 Status: OK PackageFile: OrganismDbi_1.51.5.tar.gz PackageFileSize: 388 KiB