Package: OrganismDbi Version: 1.52.0 Command: rm -rf OrganismDbi.buildbin-libdir && mkdir OrganismDbi.buildbin-libdir && /Users/biocbuild/BBS/utils/build-universal.sh OrganismDbi_1.52.0.tar.gz /Library/Frameworks/R.framework/Resources/bin/R OrganismDbi.buildbin-libdir StartedAt: 2025-10-30 05:34:43 -0400 (Thu, 30 Oct 2025) EndedAt: 2025-10-30 05:34:59 -0400 (Thu, 30 Oct 2025) EllapsedTime: 16.3 seconds RetCode: 0 Status: OK PackageFile: OrganismDbi_1.52.0.tgz PackageFileSize: 772.3 KiB