Package: Organism.dplyr Version: 1.37.1 Command: rm -rf Organism.dplyr.buildbin-libdir && mkdir Organism.dplyr.buildbin-libdir && F:\biocbuild\bbs-3.22-bioc\R\bin\R.exe CMD INSTALL --build --library=Organism.dplyr.buildbin-libdir Organism.dplyr_1.37.1.tar.gz StartedAt: 2025-08-15 10:53:52 -0400 (Fri, 15 Aug 2025) EndedAt: 2025-08-15 10:56:54 -0400 (Fri, 15 Aug 2025) EllapsedTime: 182.1 seconds RetCode: 0 Status: OK PackageFile: Organism.dplyr_1.37.1.zip PackageFileSize: 878 KiB