Package: Organism.dplyr Version: 1.37.1 Command: /Library/Frameworks/R.framework/Resources/bin/R CMD INSTALL Organism.dplyr StartedAt: 2025-10-14 15:35:59 -0400 (Tue, 14 Oct 2025) EndedAt: 2025-10-14 15:36:52 -0400 (Tue, 14 Oct 2025) EllapsedTime: 52.9 seconds RetCode: 0 Status: OK