Package: Organism.dplyr Version: 1.37.1 Command: /Library/Frameworks/R.framework/Resources/bin/R CMD check --install=check:Organism.dplyr.install-out.txt --library=/Library/Frameworks/R.framework/Resources/library --no-vignettes --timings Organism.dplyr_1.37.1.tar.gz StartedAt: 2025-10-14 00:03:39 -0400 (Tue, 14 Oct 2025) EndedAt: 2025-10-14 00:15:42 -0400 (Tue, 14 Oct 2025) EllapsedTime: 723.3 seconds RetCode: 1 Status: ERROR CheckDir: Organism.dplyr.Rcheck Warnings: NA