Package: Organism.dplyr Version: 1.37.1 Command: /Library/Frameworks/R.framework/Resources/bin/R CMD build --keep-empty-dirs --no-resave-data Organism.dplyr StartedAt: 2025-10-14 18:30:15 -0400 (Tue, 14 Oct 2025) EndedAt: 2025-10-14 18:33:05 -0400 (Tue, 14 Oct 2025) EllapsedTime: 170.0 seconds RetCode: 0 Status: OK PackageFile: Organism.dplyr_1.37.1.tar.gz PackageFileSize: 527.6 KiB