Package: OncoScore Version: 1.37.1 Command: /home/biocbuild/R/R/bin/R CMD INSTALL OncoScore StartedAt: 2025-10-16 22:24:44 -0000 (Thu, 16 Oct 2025) EndedAt: 2025-10-16 22:25:03 -0000 (Thu, 16 Oct 2025) EllapsedTime: 19.1 seconds RetCode: 0 Status: OK