Package: OncoScore Version: 1.37.1 Command: /home/biocbuild/R/R/bin/R CMD build --keep-empty-dirs --no-resave-data OncoScore StartedAt: 2025-10-17 03:17:31 -0000 (Fri, 17 Oct 2025) EndedAt: 2025-10-17 03:19:43 -0000 (Fri, 17 Oct 2025) EllapsedTime: 132.1 seconds RetCode: 0 Status: OK PackageFile: OncoScore_1.37.1.tar.gz PackageFileSize: 834.8 KiB