Package: OncoScore Version: 1.37.1 Command: /Library/Frameworks/R.framework/Resources/bin/R CMD check --install=check:OncoScore.install-out.txt --library=/Library/Frameworks/R.framework/Resources/library --no-vignettes --timings OncoScore_1.37.1.tar.gz StartedAt: 2025-10-20 00:24:37 -0400 (Mon, 20 Oct 2025) EndedAt: 2025-10-20 00:26:44 -0400 (Mon, 20 Oct 2025) EllapsedTime: 127.1 seconds RetCode: 0 Status: OK CheckDir: OncoScore.Rcheck Warnings: 0