Package: OncoScore Version: 1.37.1 Command: rm -rf OncoScore.buildbin-libdir && mkdir OncoScore.buildbin-libdir && /Users/biocbuild/BBS/utils/build-universal.sh OncoScore_1.37.1.tar.gz /Library/Frameworks/R.framework/Resources/bin/R OncoScore.buildbin-libdir StartedAt: 2025-10-20 03:23:32 -0400 (Mon, 20 Oct 2025) EndedAt: 2025-10-20 03:23:55 -0400 (Mon, 20 Oct 2025) EllapsedTime: 23.2 seconds RetCode: 0 Status: OK PackageFile: OncoScore_1.37.1.tgz PackageFileSize: 969.5 KiB