Package: OmicsMLRepoR Version: 1.3.3 Command: /home/biocbuild/R/R/bin/R CMD INSTALL OmicsMLRepoR StartedAt: 2025-10-20 20:25:57 -0000 (Mon, 20 Oct 2025) EndedAt: 2025-10-20 20:26:07 -0000 (Mon, 20 Oct 2025) EllapsedTime: 9.5 seconds RetCode: 0 Status: OK