Package: OmicsMLRepoR Version: 1.3.3 Command: /home/biocbuild/R/R/bin/R CMD build --keep-empty-dirs --no-resave-data OmicsMLRepoR StartedAt: 2025-10-21 01:47:38 -0000 (Tue, 21 Oct 2025) EndedAt: 2025-10-21 01:49:50 -0000 (Tue, 21 Oct 2025) EllapsedTime: 132.0 seconds RetCode: 0 Status: OK PackageFile: OmicsMLRepoR_1.3.3.tar.gz PackageFileSize: 458.3 KiB