Package: OmicsMLRepoR Version: 1.3.3 Command: /Library/Frameworks/R.framework/Resources/bin/R CMD INSTALL OmicsMLRepoR StartedAt: 2025-10-19 15:07:56 -0400 (Sun, 19 Oct 2025) EndedAt: 2025-10-19 15:07:59 -0400 (Sun, 19 Oct 2025) EllapsedTime: 3.2 seconds RetCode: 0 Status: OK