Package: OmicsMLRepoR Version: 1.3.3 Command: /Library/Frameworks/R.framework/Resources/bin/R CMD build --keep-empty-dirs --no-resave-data OmicsMLRepoR StartedAt: 2025-10-20 17:13:05 -0400 (Mon, 20 Oct 2025) EndedAt: 2025-10-20 17:13:49 -0400 (Mon, 20 Oct 2025) EllapsedTime: 43.5 seconds RetCode: 0 Status: OK PackageFile: OmicsMLRepoR_1.3.3.tar.gz PackageFileSize: 431.6 KiB