Package: OmicCircos Version: 1.47.0 Command: chmod a+r OmicCircos -R && F:\biocbuild\bbs-3.22-bioc\R\bin\R.exe CMD build --keep-empty-dirs --no-resave-data OmicCircos StartedAt: 2025-08-14 21:59:17 -0400 (Thu, 14 Aug 2025) EndedAt: 2025-08-14 22:18:03 -0400 (Thu, 14 Aug 2025) EllapsedTime: 1125.4 seconds RetCode: 0 Status: OK PackageFile: OmicCircos_1.47.0.tar.gz PackageFileSize: 3.617 MiB