Package: OmicCircos Version: 1.47.0 Command: rm -rf OmicCircos.buildbin-libdir && mkdir OmicCircos.buildbin-libdir && F:\biocbuild\bbs-3.22-bioc\R\bin\R.exe CMD INSTALL --build --library=OmicCircos.buildbin-libdir OmicCircos_1.47.0.tar.gz StartedAt: 2025-08-15 10:52:28 -0400 (Fri, 15 Aug 2025) EndedAt: 2025-08-15 10:52:49 -0400 (Fri, 15 Aug 2025) EllapsedTime: 20.4 seconds RetCode: 0 Status: OK PackageFile: OmicCircos_1.47.0.zip PackageFileSize: 3.732 MiB