Package: OmicCircos Version: 1.47.0 Command: /home/biocbuild/bbs-3.22-bioc/R/bin/R CMD check --install=check:OmicCircos.install-out.txt --library=/home/biocbuild/bbs-3.22-bioc/R/site-library --timings OmicCircos_1.47.0.tar.gz StartedAt: 2025-10-20 02:49:45 -0400 (Mon, 20 Oct 2025) EndedAt: 2025-10-20 02:51:11 -0400 (Mon, 20 Oct 2025) EllapsedTime: 86.1 seconds RetCode: 0 Status: WARNINGS CheckDir: OmicCircos.Rcheck Warnings: 1