Package: OmicCircos Version: 1.47.0 Command: /home/biocbuild/bbs-3.22-bioc/R/bin/R CMD build --keep-empty-dirs --no-resave-data --md5 OmicCircos StartedAt: 2025-10-19 19:04:32 -0400 (Sun, 19 Oct 2025) EndedAt: 2025-10-19 19:04:59 -0400 (Sun, 19 Oct 2025) EllapsedTime: 27.1 seconds RetCode: 0 Status: OK PackageFile: OmicCircos_1.47.0.tar.gz PackageFileSize: 2.81 MiB