Package: OmicCircos Version: 1.47.0 Command: rm -rf OmicCircos.buildbin-libdir && mkdir OmicCircos.buildbin-libdir && /Users/biocbuild/BBS/utils/build-universal.sh OmicCircos_1.47.0.tar.gz /Library/Frameworks/R.framework/Resources/bin/R OmicCircos.buildbin-libdir StartedAt: 2025-10-22 02:38:32 -0400 (Wed, 22 Oct 2025) EndedAt: 2025-10-22 02:38:53 -0400 (Wed, 22 Oct 2025) EllapsedTime: 20.5 seconds RetCode: 0 Status: OK PackageFile: OmicCircos_1.47.0.tgz PackageFileSize: 5.066 MiB