Package: OmicCircos Version: 1.47.0 Command: /Library/Frameworks/R.framework/Resources/bin/R CMD INSTALL OmicCircos StartedAt: 2025-10-23 15:11:07 -0400 (Thu, 23 Oct 2025) EndedAt: 2025-10-23 15:11:12 -0400 (Thu, 23 Oct 2025) EllapsedTime: 5.2 seconds RetCode: 0 Status: OK