Package: OmicCircos Version: 1.47.0 Command: /Library/Frameworks/R.framework/Resources/bin/R CMD check --install=check:OmicCircos.install-out.txt --library=/Library/Frameworks/R.framework/Resources/library --no-vignettes --timings OmicCircos_1.47.0.tar.gz StartedAt: 2025-10-24 21:07:22 -0400 (Fri, 24 Oct 2025) EndedAt: 2025-10-24 21:07:55 -0400 (Fri, 24 Oct 2025) EllapsedTime: 32.4 seconds RetCode: 0 Status: WARNINGS CheckDir: OmicCircos.Rcheck Warnings: 1